BEGIN:VCALENDAR
VERSION:2.0
PRODID:icalendar-ruby
CALSCALE:GREGORIAN
METHOD:PUBLISH
BEGIN:VEVENT
DTSTAMP:20260425T134749Z
UID:21-1041674@tcinj.com
DTSTART:20260625T230000Z
DTEND:20260626T010000Z
CLASS:PUBLIC
CREATED:20260422T175754
DESCRIPTION:
LAST-MODIFIED:20260422T175754
LOCATION:
SUMMARY:Hogares Faro / Home Groups
URL;VALUE=URI:https://tcinj.com/events/hogares-faro-home-groups/2026-06-25
ATTACH;FILENAME=LIDERES FARO.jpg;FMTTYPE=image/jpeg:https://dq5pwpg1q8ru0.c
 loudfront.net/2026/04/22/21/57/53/bc3e959d-2690-4c7d-aba8-a113aec91c59/LID
 ERES%20FARO.jpg
END:VEVENT
END:VCALENDAR
